BEGIN:VCALENDAR
VERSION:2.0
PRODID:-//Colégio Seima - ECPv6.15.17//NONSGML v1.0//EN
CALSCALE:GREGORIAN
METHOD:PUBLISH
X-ORIGINAL-URL:https://colegioseima.com.br
X-WR-CALDESC:Eventos para Colégio Seima
REFRESH-INTERVAL;VALUE=DURATION:PT1H
X-Robots-Tag:noindex
X-PUBLISHED-TTL:PT1H
BEGIN:VTIMEZONE
TZID:Europe/Moscow
BEGIN:STANDARD
TZOFFSETFROM:+0300
TZOFFSETTO:+0300
TZNAME:MSK
DTSTART:20250101T000000
END:STANDARD
END:VTIMEZONE
BEGIN:VEVENT
DTSTART;VALUE=DATE:20260812
DTEND;VALUE=DATE:20260813
DTSTAMP:20260423T203950
CREATED:20251005T032707Z
LAST-MODIFIED:20251005T032707Z
UID:1494-1786492800-1786579199@colegioseima.com.br
SUMMARY:Nossa Senhora da Conceição
DESCRIPTION:
URL:https://colegioseima.com.br/event/nossa-senhora-da-conceicao/
CATEGORIES:Feriado Municipal
END:VEVENT
END:VCALENDAR