BEGIN:VCALENDAR
VERSION:2.0
PRODID:-//Colégio Seima - ECPv6.15.17//NONSGML v1.0//EN
CALSCALE:GREGORIAN
METHOD:PUBLISH
X-ORIGINAL-URL:https://colegioseima.com.br
X-WR-CALDESC:Eventos para Colégio Seima
REFRESH-INTERVAL;VALUE=DURATION:PT1H
X-Robots-Tag:noindex
X-PUBLISHED-TTL:PT1H
BEGIN:VTIMEZONE
TZID:Europe/Moscow
BEGIN:STANDARD
TZOFFSETFROM:+0300
TZOFFSETTO:+0300
TZNAME:MSK
DTSTART:20240101T000000
END:STANDARD
END:VTIMEZONE
BEGIN:VEVENT
DTSTART;VALUE=DATE:20251005
DTEND;VALUE=DATE:20251006
DTSTAMP:20260424T015737
CREATED:20251005T031700Z
LAST-MODIFIED:20251005T031700Z
UID:1476-1759622400-1759708799@colegioseima.com.br
SUMMARY:Tiradentes
DESCRIPTION:
URL:https://colegioseima.com.br/event/tiradentes/
CATEGORIES:Feriado Nacional
END:VEVENT
BEGIN:VEVENT
DTSTART;VALUE=DATE:20251005
DTEND;VALUE=DATE:20251006
DTSTAMP:20260424T015737
CREATED:20251005T032608Z
LAST-MODIFIED:20251005T032608Z
UID:1492-1759622400-1759708799@colegioseima.com.br
SUMMARY:Proclamação da República
DESCRIPTION:
URL:https://colegioseima.com.br/event/proclamacao-da-republica/
CATEGORIES:Feriado Nacional
END:VEVENT
BEGIN:VEVENT
DTSTART;VALUE=DATE:20251005
DTEND;VALUE=DATE:20251006
DTSTAMP:20260424T015737
CREATED:20251005T032847Z
LAST-MODIFIED:20251005T032847Z
UID:1497-1759622400-1759708799@colegioseima.com.br
SUMMARY:Natal
DESCRIPTION:
URL:https://colegioseima.com.br/event/natal/
CATEGORIES:Feriado Nacional
END:VEVENT
BEGIN:VEVENT
DTSTART;TZID=Europe/Moscow:20251005T080000
DTEND;TZID=Europe/Moscow:20251005T170000
DTSTAMP:20260424T015737
CREATED:20251005T031420Z
LAST-MODIFIED:20251005T031433Z
UID:1470-1759651200-1759683600@colegioseima.com.br
SUMMARY:Carnaval
DESCRIPTION:
URL:https://colegioseima.com.br/event/carnaval-2/
CATEGORIES:Feriado Nacional,Ponto Facultativo
END:VEVENT
END:VCALENDAR