BEGIN:VCALENDAR
VERSION:2.0
PRODID:-//Colégio Seima - ECPv6.15.17//NONSGML v1.0//EN
CALSCALE:GREGORIAN
METHOD:PUBLISH
X-ORIGINAL-URL:https://colegioseima.com.br
X-WR-CALDESC:Eventos para Colégio Seima
REFRESH-INTERVAL;VALUE=DURATION:PT1H
X-Robots-Tag:noindex
X-PUBLISHED-TTL:PT1H
BEGIN:VTIMEZONE
TZID:Europe/Moscow
BEGIN:STANDARD
TZOFFSETFROM:+0300
TZOFFSETTO:+0300
TZNAME:MSK
DTSTART:20250101T000000
END:STANDARD
END:VTIMEZONE
BEGIN:VEVENT
DTSTART;VALUE=DATE:20260101
DTEND;VALUE=DATE:20260102
DTSTAMP:20260423T203951
CREATED:20251005T024132Z
LAST-MODIFIED:20251005T030758Z
UID:1462-1767225600-1767311999@colegioseima.com.br
SUMMARY:Confraternização Universal / Ano Novo
DESCRIPTION:
URL:https://colegioseima.com.br/event/confraternizacao-universal-ano-novo/
CATEGORIES:Feriado Nacional
END:VEVENT
END:VCALENDAR