BEGIN:VCALENDAR
VERSION:2.0
PRODID:-//Colégio Seima - ECPv6.15.17//NONSGML v1.0//EN
CALSCALE:GREGORIAN
METHOD:PUBLISH
X-ORIGINAL-URL:https://colegioseima.com.br
X-WR-CALDESC:Eventos para Colégio Seima
REFRESH-INTERVAL;VALUE=DURATION:PT1H
X-Robots-Tag:noindex
X-PUBLISHED-TTL:PT1H
BEGIN:VTIMEZONE
TZID:Europe/Moscow
BEGIN:STANDARD
TZOFFSETFROM:+0300
TZOFFSETTO:+0300
TZNAME:MSK
DTSTART:20240101T000000
END:STANDARD
END:VTIMEZONE
BEGIN:VEVENT
DTSTART;TZID=Europe/Moscow:20251005T080000
DTEND;TZID=Europe/Moscow:20251005T140000
DTSTAMP:20260424T090040
CREATED:20251005T031521Z
LAST-MODIFIED:20251005T031521Z
UID:1472-1759651200-1759672800@colegioseima.com.br
SUMMARY:Quarta-feira de Cinzas
DESCRIPTION:
URL:https://colegioseima.com.br/event/quarta-feira-de-cinzas/
CATEGORIES:Ponto Facultativo
END:VEVENT
BEGIN:VEVENT
DTSTART;TZID=Europe/Moscow:20251005T080000
DTEND;TZID=Europe/Moscow:20251005T170000
DTSTAMP:20260424T090040
CREATED:20251005T031420Z
LAST-MODIFIED:20251005T031433Z
UID:1470-1759651200-1759683600@colegioseima.com.br
SUMMARY:Carnaval
DESCRIPTION:
URL:https://colegioseima.com.br/event/carnaval-2/
CATEGORIES:Feriado Nacional,Ponto Facultativo
END:VEVENT
END:VCALENDAR