BEGIN:VCALENDAR
VERSION:2.0
PRODID:-//Colégio Seima - ECPv6.15.17//NONSGML v1.0//EN
CALSCALE:GREGORIAN
METHOD:PUBLISH
X-WR-CALNAME:Colégio Seima
X-ORIGINAL-URL:https://colegioseima.com.br
X-WR-CALDESC:Eventos para Colégio Seima
REFRESH-INTERVAL;VALUE=DURATION:PT1H
X-Robots-Tag:noindex
X-PUBLISHED-TTL:PT1H
BEGIN:VTIMEZONE
TZID:Europe/Moscow
BEGIN:STANDARD
TZOFFSETFROM:+0300
TZOFFSETTO:+0300
TZNAME:MSK
DTSTART:20250101T000000
END:STANDARD
END:VTIMEZONE
BEGIN:VTIMEZONE
TZID:America/Sao_Paulo
BEGIN:STANDARD
TZOFFSETFROM:-0300
TZOFFSETTO:-0300
TZNAME:-03
DTSTART:20250101T000000
END:STANDARD
END:VTIMEZONE
BEGIN:VTIMEZONE
TZID:UTC
BEGIN:STANDARD
TZOFFSETFROM:+0000
TZOFFSETTO:+0000
TZNAME:UTC
DTSTART:20250101T000000
END:STANDARD
END:VTIMEZONE
BEGIN:VEVENT
DTSTART;VALUE=DATE:20260101
DTEND;VALUE=DATE:20260102
DTSTAMP:20260423T222431
CREATED:20251005T024132Z
LAST-MODIFIED:20251005T030758Z
UID:1462-1767225600-1767311999@colegioseima.com.br
SUMMARY:Confraternização Universal / Ano Novo
DESCRIPTION:
URL:https://colegioseima.com.br/event/confraternizacao-universal-ano-novo/
CATEGORIES:Feriado Nacional
END:VEVENT
BEGIN:VEVENT
DTSTART;VALUE=DATE:20260112
DTEND;VALUE=DATE:20260113
DTSTAMP:20260423T222431
CREATED:20251005T024302Z
LAST-MODIFIED:20251005T050050Z
UID:1464-1768176000-1768262399@colegioseima.com.br
SUMMARY:Aniversário de Belém
DESCRIPTION:
URL:https://colegioseima.com.br/event/aniversario-de-belem/
CATEGORIES:Feriado Municipal
END:VEVENT
BEGIN:VEVENT
DTSTART;VALUE=DATE:20260115
DTEND;VALUE=DATE:20260116
DTSTAMP:20260423T222431
CREATED:20250921T010648Z
LAST-MODIFIED:20250921T020534Z
UID:634-1768435200-1768521599@colegioseima.com.br
SUMMARY:Início das Aulas - Ens. Fund. I\, II e Ens. Médio.
DESCRIPTION:
URL:https://colegioseima.com.br/event/inicio-das-aulas-ens-fund-i-ii-e-ens-medio/
CATEGORIES:Início do Ano Letivo
END:VEVENT
BEGIN:VEVENT
DTSTART;VALUE=DATE:20260120
DTEND;VALUE=DATE:20260121
DTSTAMP:20260423T222431
CREATED:20250921T012527Z
LAST-MODIFIED:20250921T020508Z
UID:641-1768867200-1768953599@colegioseima.com.br
SUMMARY:Início da Aulas Educação Infantil
DESCRIPTION:
URL:https://colegioseima.com.br/event/inicio-da-aulas-educacao-infantil/
CATEGORIES:Início do Ano Letivo
END:VEVENT
END:VCALENDAR