BEGIN:VCALENDAR
VERSION:2.0
PRODID:-//Colégio Seima - ECPv6.15.17//NONSGML v1.0//EN
CALSCALE:GREGORIAN
METHOD:PUBLISH
X-WR-CALNAME:Colégio Seima
X-ORIGINAL-URL:https://colegioseima.com.br
X-WR-CALDESC:Eventos para Colégio Seima
REFRESH-INTERVAL;VALUE=DURATION:PT1H
X-Robots-Tag:noindex
X-PUBLISHED-TTL:PT1H
BEGIN:VTIMEZONE
TZID:Europe/Moscow
BEGIN:STANDARD
TZOFFSETFROM:+0300
TZOFFSETTO:+0300
TZNAME:MSK
DTSTART:20250101T000000
END:STANDARD
END:VTIMEZONE
BEGIN:VTIMEZONE
TZID:America/Sao_Paulo
BEGIN:STANDARD
TZOFFSETFROM:-0300
TZOFFSETTO:-0300
TZNAME:-03
DTSTART:20250101T000000
END:STANDARD
END:VTIMEZONE
BEGIN:VEVENT
DTSTART;VALUE=DATE:20260211
DTEND;VALUE=DATE:20260212
DTSTAMP:20260423T203816
CREATED:20251005T032505Z
LAST-MODIFIED:20251005T032505Z
UID:1490-1770768000-1770854399@colegioseima.com.br
SUMMARY:Finados
DESCRIPTION:
URL:https://colegioseima.com.br/event/finados/
CATEGORIES:Feriado Nacional
END:VEVENT
BEGIN:VEVENT
DTSTART;TZID=America/Sao_Paulo:20260216T000000
DTEND;TZID=America/Sao_Paulo:20260216T235900
DTSTAMP:20260423T203816
CREATED:20250921T014121Z
LAST-MODIFIED:20251005T030954Z
UID:644-1771200000-1771286340@colegioseima.com.br
SUMMARY:Carnaval
DESCRIPTION:
URL:https://colegioseima.com.br/event/carnaval/
CATEGORIES:Ponto Facultativo
END:VEVENT
END:VCALENDAR