BEGIN:VCALENDAR
VERSION:2.0
PRODID:-//Colégio Seima - ECPv6.15.17//NONSGML v1.0//EN
CALSCALE:GREGORIAN
METHOD:PUBLISH
X-WR-CALNAME:Colégio Seima
X-ORIGINAL-URL:https://colegioseima.com.br
X-WR-CALDESC:Eventos para Colégio Seima
REFRESH-INTERVAL;VALUE=DURATION:PT1H
X-Robots-Tag:noindex
X-PUBLISHED-TTL:PT1H
BEGIN:VTIMEZONE
TZID:Europe/Moscow
BEGIN:STANDARD
TZOFFSETFROM:+0300
TZOFFSETTO:+0300
TZNAME:MSK
DTSTART:20250101T000000
END:STANDARD
END:VTIMEZONE
BEGIN:VEVENT
DTSTART;TZID=Europe/Moscow:20260304T080000
DTEND;TZID=Europe/Moscow:20260304T170000
DTSTAMP:20260423T185313
CREATED:20251005T031627Z
LAST-MODIFIED:20251005T031627Z
UID:1474-1772611200-1772643600@colegioseima.com.br
SUMMARY:Paixão de Cristo
DESCRIPTION:
URL:https://colegioseima.com.br/event/paixao-de-cristo/
CATEGORIES:Feriado Nacional
END:VEVENT
END:VCALENDAR